BEGIN:VCALENDAR
VERSION:2.0
PRODID:-//Katharina Maria Kagel - ECPv6.15.20//NONSGML v1.0//EN
CALSCALE:GREGORIAN
METHOD:PUBLISH
X-WR-CALNAME:Katharina Maria Kagel
X-ORIGINAL-URL:https://katharinamariakagel.de
X-WR-CALDESC:Veranstaltungen für Katharina Maria Kagel
REFRESH-INTERVAL;VALUE=DURATION:PT1H
X-Robots-Tag:noindex
X-PUBLISHED-TTL:PT1H
BEGIN:VTIMEZONE
TZID:Europe/Berlin
BEGIN:DAYLIGHT
TZOFFSETFROM:+0100
TZOFFSETTO:+0200
TZNAME:CEST
DTSTART:20240331T010000
END:DAYLIGHT
BEGIN:STANDARD
TZOFFSETFROM:+0200
TZOFFSETTO:+0100
TZNAME:CET
DTSTART:20241027T010000
END:STANDARD
BEGIN:DAYLIGHT
TZOFFSETFROM:+0100
TZOFFSETTO:+0200
TZNAME:CEST
DTSTART:20250330T010000
END:DAYLIGHT
BEGIN:STANDARD
TZOFFSETFROM:+0200
TZOFFSETTO:+0100
TZNAME:CET
DTSTART:20251026T010000
END:STANDARD
BEGIN:DAYLIGHT
TZOFFSETFROM:+0100
TZOFFSETTO:+0200
TZNAME:CEST
DTSTART:20260329T010000
END:DAYLIGHT
BEGIN:STANDARD
TZOFFSETFROM:+0200
TZOFFSETTO:+0100
TZNAME:CET
DTSTART:20261025T010000
END:STANDARD
END:VTIMEZONE
BEGIN:VEVENT
DTSTART;TZID=Europe/Berlin:20250923T160000
DTEND;TZID=Europe/Berlin:20250923T180000
DTSTAMP:20260420T012028
CREATED:20250731T200236Z
LAST-MODIFIED:20250731T200237Z
UID:3795-1758643200-1758650400@katharinamariakagel.de
SUMMARY:Melodien des Sommers
DESCRIPTION:Chorkonzert mit Soloeinlage\, mit S(w)inging Großensee und Katharina Maria Kagel
URL:https://katharinamariakagel.de/veranstaltung/melodien-des-sommers/
LOCATION:Martha Stiftung\, Marha Haus Am Ohlendorffturm 20 - 22\, Hamburg Rahlstedt\, Hamburg\, 22149\, Germany
END:VEVENT
END:VCALENDAR