BEGIN:VCALENDAR
VERSION:2.0
PRODID:-//Katharina Maria Kagel - ECPv6.15.20//NONSGML v1.0//EN
CALSCALE:GREGORIAN
METHOD:PUBLISH
X-ORIGINAL-URL:https://katharinamariakagel.de
X-WR-CALDESC:Veranstaltungen für Katharina Maria Kagel
REFRESH-INTERVAL;VALUE=DURATION:PT1H
X-Robots-Tag:noindex
X-PUBLISHED-TTL:PT1H
BEGIN:VTIMEZONE
TZID:Europe/Berlin
BEGIN:DAYLIGHT
TZOFFSETFROM:+0100
TZOFFSETTO:+0200
TZNAME:CEST
DTSTART:20250330T010000
END:DAYLIGHT
BEGIN:STANDARD
TZOFFSETFROM:+0200
TZOFFSETTO:+0100
TZNAME:CET
DTSTART:20251026T010000
END:STANDARD
BEGIN:DAYLIGHT
TZOFFSETFROM:+0100
TZOFFSETTO:+0200
TZNAME:CEST
DTSTART:20260329T010000
END:DAYLIGHT
BEGIN:STANDARD
TZOFFSETFROM:+0200
TZOFFSETTO:+0100
TZNAME:CET
DTSTART:20261025T010000
END:STANDARD
BEGIN:DAYLIGHT
TZOFFSETFROM:+0100
TZOFFSETTO:+0200
TZNAME:CEST
DTSTART:20270328T010000
END:DAYLIGHT
BEGIN:STANDARD
TZOFFSETFROM:+0200
TZOFFSETTO:+0100
TZNAME:CET
DTSTART:20271031T010000
END:STANDARD
END:VTIMEZONE
BEGIN:VEVENT
DTSTART;TZID=Europe/Berlin:20261107T180000
DTEND;TZID=Europe/Berlin:20261107T213000
DTSTAMP:20260419T155553
CREATED:20260309T213742Z
LAST-MODIFIED:20260311T232911Z
UID:3889-1794074400-1794087000@katharinamariakagel.de
SUMMARY:Musical-Revue (Wieder-Aufnahme)
DESCRIPTION:Nach der erfolgreichen Premiere und weiteren Aufführungen 2024 bringe ich die Revue unter meiner Leitung in einer Neuaufnahme im Peter Rantzau-Haus in Ahensburg am 7. und 8. November 2026 wieder zur Aufführung!
URL:https://katharinamariakagel.de/veranstaltung/musical-revue-wieder-aufnahme-2/
LOCATION:Schleswig-Holstein
ATTACH;FMTTYPE=image/jpeg:https://katharinamariakagel.de/wp-content/uploads/Musical-Revue-KatharinaF-scaled.jpg
END:VEVENT
END:VCALENDAR