BEGIN:VCALENDAR
VERSION:2.0
PRODID:-//Katharina Maria Kagel - ECPv6.15.20//NONSGML v1.0//EN
CALSCALE:GREGORIAN
METHOD:PUBLISH
X-ORIGINAL-URL:https://katharinamariakagel.de
X-WR-CALDESC:Veranstaltungen für Katharina Maria Kagel
REFRESH-INTERVAL;VALUE=DURATION:PT1H
X-Robots-Tag:noindex
X-PUBLISHED-TTL:PT1H
BEGIN:VTIMEZONE
TZID:Europe/Berlin
BEGIN:DAYLIGHT
TZOFFSETFROM:+0100
TZOFFSETTO:+0200
TZNAME:CEST
DTSTART:20230326T010000
END:DAYLIGHT
BEGIN:STANDARD
TZOFFSETFROM:+0200
TZOFFSETTO:+0100
TZNAME:CET
DTSTART:20231029T010000
END:STANDARD
BEGIN:DAYLIGHT
TZOFFSETFROM:+0100
TZOFFSETTO:+0200
TZNAME:CEST
DTSTART:20240331T010000
END:DAYLIGHT
BEGIN:STANDARD
TZOFFSETFROM:+0200
TZOFFSETTO:+0100
TZNAME:CET
DTSTART:20241027T010000
END:STANDARD
BEGIN:DAYLIGHT
TZOFFSETFROM:+0100
TZOFFSETTO:+0200
TZNAME:CEST
DTSTART:20250330T010000
END:DAYLIGHT
BEGIN:STANDARD
TZOFFSETFROM:+0200
TZOFFSETTO:+0100
TZNAME:CET
DTSTART:20251026T010000
END:STANDARD
BEGIN:DAYLIGHT
TZOFFSETFROM:+0100
TZOFFSETTO:+0200
TZNAME:CEST
DTSTART:20260329T010000
END:DAYLIGHT
BEGIN:STANDARD
TZOFFSETFROM:+0200
TZOFFSETTO:+0100
TZNAME:CET
DTSTART:20261025T010000
END:STANDARD
BEGIN:DAYLIGHT
TZOFFSETFROM:+0100
TZOFFSETTO:+0200
TZNAME:CEST
DTSTART:20270328T010000
END:DAYLIGHT
BEGIN:STANDARD
TZOFFSETFROM:+0200
TZOFFSETTO:+0100
TZNAME:CET
DTSTART:20271031T010000
END:STANDARD
END:VTIMEZONE
BEGIN:VEVENT
DTSTART;TZID=Europe/Berlin:20260308T170000
DTEND;TZID=Europe/Berlin:20260308T173000
DTSTAMP:20260423T122136
CREATED:20260226T215320Z
LAST-MODIFIED:20260226T220018Z
UID:3870-1772989200-1772991000@katharinamariakagel.de
SUMMARY:"Neumünster singt und spielt"
DESCRIPTION:
URL:https://katharinamariakagel.de/veranstaltung/neumuenster-singt-und-spielt/
LOCATION:Schleswig-Holstein
END:VEVENT
BEGIN:VEVENT
DTSTART;TZID=Europe/Berlin:20251213T140000
DTEND;TZID=Europe/Berlin:20251214T170000
DTSTAMP:20260423T122136
CREATED:20250731T202510Z
LAST-MODIFIED:20260226T221150Z
UID:3798-1765634400-1765731600@katharinamariakagel.de
SUMMARY:Weihnachtskonzerte auf Brittas Diele in Brunsbek-Langelohe
DESCRIPTION:Am 13. Dezember\, 14:00 Uhr\,  im Duett mit himmlischen Weihnachtsliedern: Katharina Maria Kagel und Karolina Trojok\, mit Kaffeearrangement – Kaffee und Kuchen satt. \n\n\n\nAm 14. Dezember (3. Advent)\, 14:00 Uhr\,  mit S(w)inging Großensee\, mit Kaffeearrangement – Kaffee und Kuchen satt. \n\n\n\nAnmeldung dringend erforderlich!
URL:https://katharinamariakagel.de/veranstaltung/weihnachtskonzerte-auf-brittas-diele-in-brunsbek-langelohe/
LOCATION:Britta’s Diele\, Hauptstraße 1\, Brunsbek\, OT Langelohe\, 22946\, Deutschland
END:VEVENT
BEGIN:VEVENT
DTSTART;TZID=Europe/Berlin:20250923T160000
DTEND;TZID=Europe/Berlin:20250923T180000
DTSTAMP:20260423T122136
CREATED:20250731T200236Z
LAST-MODIFIED:20250731T200237Z
UID:3795-1758643200-1758650400@katharinamariakagel.de
SUMMARY:Melodien des Sommers
DESCRIPTION:Chorkonzert mit Soloeinlage\, mit S(w)inging Großensee und Katharina Maria Kagel
URL:https://katharinamariakagel.de/veranstaltung/melodien-des-sommers/
LOCATION:Martha Stiftung\, Marha Haus Am Ohlendorffturm 20 - 22\, Hamburg Rahlstedt\, Hamburg\, 22149\, Germany
END:VEVENT
BEGIN:VEVENT
DTSTART;TZID=Europe/Berlin:20250830T160000
DTEND;TZID=Europe/Berlin:20250830T180000
DTSTAMP:20260423T122136
CREATED:20250731T194654Z
LAST-MODIFIED:20250731T200558Z
UID:3793-1756569600-1756576800@katharinamariakagel.de
SUMMARY:Spanisches Sommerkonzert
DESCRIPTION:Mit Karolina Trojok am Klavier\, André Böttcher an der Violine und Katharina Maria Kagel
URL:https://katharinamariakagel.de/veranstaltung/spanisches-sommerkonzert/
LOCATION:Elbschloss Residenz\, Baron-Voght-Str. 93\, Hamburg Klein Flottbek\, Hamburg\, Germany
END:VEVENT
BEGIN:VEVENT
DTSTART;TZID=Europe/Berlin:20250614T163000
DTEND;TZID=Europe/Berlin:20250614T170000
DTSTAMP:20260423T122136
CREATED:20250611T094709Z
LAST-MODIFIED:20250612T145240Z
UID:3723-1749918600-1749920400@katharinamariakagel.de
SUMMARY:Open Air am Großensee!
DESCRIPTION:ich freue mich\, Euch auch in diesem Jahr wieder mit unseren schwungvollen Konzerten begeistern zu können! \n\n\n\nKommen Sie zur 777- Jahresfeier nach Großensee und erleben Sie „S(w)inging Großensee“ live am Großensee\, im Freibad am Strand! \n\n\n\n\n\n\n\nSpaß und Unterhaltung und viele interessante Angebote auf dem gesamten Gelände des Freibads Südstrand am Großensee! Klavier: Karolina Trojok\, Leitung: Katharina Maria Kagel.Schaut bitte auf die aktualisierten Infos bei Großensee.eu (Freibad Südstrand oder aktuelle Infos)Eintritt frei!
URL:https://katharinamariakagel.de/veranstaltung/open-air-am-grossensee/
LOCATION:Schleswig-Holstein
END:VEVENT
BEGIN:VEVENT
DTSTART;TZID=Europe/Berlin:20250119T160000
DTEND;TZID=Europe/Berlin:20250119T180000
DTSTAMP:20260423T122136
CREATED:20241124T120157Z
LAST-MODIFIED:20241124T120157Z
UID:3325-1737302400-1737309600@katharinamariakagel.de
SUMMARY:Poesie in Lied und Gedichten
DESCRIPTION:Der klassische Duett-Nachmittag mit Katharina Maria Kagel und Karolina Trojok.Der Eintritt ist frei
URL:https://katharinamariakagel.de/veranstaltung/poesie-in-lied-und-gedichten/
LOCATION:Tobias-Haus\, Am Hagen 6\, Ahrensburg\, 22926
END:VEVENT
BEGIN:VEVENT
DTSTART;TZID=Europe/Berlin:20241222T160000
DTEND;TZID=Europe/Berlin:20241222T173000
DTSTAMP:20260423T122136
CREATED:20240826T180810Z
LAST-MODIFIED:20240901T132855Z
UID:3216-1734883200-1734888600@katharinamariakagel.de
SUMMARY:"Eine musikalische Weihnachtsgeschichte\, Jesus Maria und der Klavierspieler"
DESCRIPTION:Eine gemeinsam erdachte Weihnachtsgeschichte im Winter2019 bei der Inklusionsarbeit mit den „Wilden Rosen“ entstandennach einer Idee des Inklusions-Chors „Wilde Rosen“ der Robben e.V.Wulfsdorf und gemeinsamer Bearbeitung mit Katharina Maria Kagel.In Vertretung der „Wilden Rosen“\, die nicht selbst auftreten konnten\,weil sie sich derzeit wegen Corona alle in Quarantäne befanden\,lesen Mitglieder des Chores „S(w)inging Großensee“ die Geschichte.Katharina Maria Kagel singt die ausgesuchten Weihnachtslieder\,Karolina Trojok begleitet am Flügel. Die Leitung hat Katharina MariaKagel. \n\n\n\nIm Tobiashaus in Ahrensburg. \n\n\n\nHören Sie schon mal rein! Hier gibt es einige Ausschnitte von der festlichen Premiere am 20. Dezember 2020 in der Martin-Luther. \n\n\n\n\n\n\n\n\n\nKatharina Maria Kagel sang und leitete die Premiere am 20. Dezember 2020 in der Martin-Luther-Kirche zu Trittau
URL:https://katharinamariakagel.de/veranstaltung/eine-musikalische-weihnachtsgeschichte-jesus-maria-und-der-klavierspieler/
LOCATION:Tobias-Haus\, Am Hagen 6\, Ahrensburg\, 22926
END:VEVENT
BEGIN:VEVENT
DTSTART;TZID=Europe/Berlin:20241219T160000
DTEND;TZID=Europe/Berlin:20241219T173000
DTSTAMP:20260423T122136
CREATED:20241113T141312Z
LAST-MODIFIED:20241113T154048Z
UID:3313-1734624000-1734629400@katharinamariakagel.de
SUMMARY:Festliches Weihnachtskonzert in der Martha Stiftung
DESCRIPTION:Katharina Maria Kagel (Gesang) wird begleitet von Karolina Trojok (Klavier) und André Böttcher (Geige). \n\n\n\nDer Eintritt ist frei!
URL:https://katharinamariakagel.de/veranstaltung/festliches-weihnachtskonzert-in-der-martha-stiftung/
LOCATION:Martha Stiftung\, Marha Haus Am Ohlendorffturm 20 - 22\, Hamburg Rahlstedt\, Hamburg\, 22149\, Germany
END:VEVENT
BEGIN:VEVENT
DTSTART;TZID=Europe/Berlin:20241215T140000
DTEND;TZID=Europe/Berlin:20241215T153000
DTSTAMP:20260423T122136
CREATED:20240826T104352Z
LAST-MODIFIED:20241028T080145Z
UID:3210-1734271200-1734276600@katharinamariakagel.de
SUMMARY:Weihnachtskonzert mit S(w)inging Großensee
DESCRIPTION:Weihnachtskonzert mit S(w)inging Großensee am 3. Advent! \n\n\n\nKlick für mehr Infos zum Arrangement \n\n\n\nEin stimmungsvolles Weihnachtskonzert mit bekannten weihnachtlichen Liedern rund um den Globus. \n\n\n\nFoto (c) by Uwe Kunze pixelio.de
URL:https://katharinamariakagel.de/veranstaltung/weihnachtskonzert-mit-swinging-grossensee/
LOCATION:Britta’s Diele\, Hauptstraße 1\, Brunsbek\, OT Langelohe\, 22946\, Deutschland
ATTACH;FMTTYPE=image/jpeg:https://katharinamariakagel.de/wp-content/uploads/773722_web_R_K_B_by_Uwe-Kunze_pixelio.de_.jpg
END:VEVENT
BEGIN:VEVENT
DTSTART;TZID=Europe/Berlin:20241214T140000
DTEND;TZID=Europe/Berlin:20241214T170000
DTSTAMP:20260423T122136
CREATED:20241027T142155Z
LAST-MODIFIED:20241028T080632Z
UID:3283-1734184800-1734195600@katharinamariakagel.de
SUMMARY:Weihnachten in Britta's Diele
DESCRIPTION:Wunderschönes Weihnachtliches Konzert in Britta’s Diele\, mit romantischen Melodien von Klassik bis Pop\, inklusive Kaffee und Kuchen satt\, für 30 € \n\n\n\nMit Katharina Maria Kagel\, Gesangund Karolina Trojok am Klavier. \n\n\n\nKartenvorverkauf: \n\n\n\nKatherina Maria Kagel\, Tel. 0163/4706299oder Britta’s Diele (bis einschl. 14.11.) sonn- und feiertags von 13 bis 18 Uhr
URL:https://katharinamariakagel.de/veranstaltung/3283/
LOCATION:Britta’s Diele\, Hauptstraße 1\, Brunsbek\, OT Langelohe\, 22946\, Deutschland
END:VEVENT
BEGIN:VEVENT
DTSTART;TZID=Europe/Berlin:20241204T140000
DTEND;TZID=Europe/Berlin:20241204T140000
DTSTAMP:20260423T122136
CREATED:20241027T124952Z
LAST-MODIFIED:20241027T140055Z
UID:3274-1733320800-1733320800@katharinamariakagel.de
SUMMARY:Adventskonzert mit S(w)inging Großensee
DESCRIPTION:Geschlossene Veranstaltung im Dorfgemeinschaftshaus für Seniorinnen und Senioren der Gemeinde Lütjensee.
URL:https://katharinamariakagel.de/veranstaltung/adventskonzert-mit-swinging-grossensee/
LOCATION:Schleswig-Holstein
END:VEVENT
END:VCALENDAR