BEGIN:VCALENDAR
VERSION:2.0
PRODID:-//Katharina Maria Kagel - ECPv6.15.20//NONSGML v1.0//EN
CALSCALE:GREGORIAN
METHOD:PUBLISH
X-WR-CALNAME:Katharina Maria Kagel
X-ORIGINAL-URL:https://katharinamariakagel.de
X-WR-CALDESC:Veranstaltungen für Katharina Maria Kagel
REFRESH-INTERVAL;VALUE=DURATION:PT1H
X-Robots-Tag:noindex
X-PUBLISHED-TTL:PT1H
BEGIN:VTIMEZONE
TZID:Europe/Berlin
BEGIN:DAYLIGHT
TZOFFSETFROM:+0100
TZOFFSETTO:+0200
TZNAME:CEST
DTSTART:20240331T010000
END:DAYLIGHT
BEGIN:STANDARD
TZOFFSETFROM:+0200
TZOFFSETTO:+0100
TZNAME:CET
DTSTART:20241027T010000
END:STANDARD
BEGIN:DAYLIGHT
TZOFFSETFROM:+0100
TZOFFSETTO:+0200
TZNAME:CEST
DTSTART:20250330T010000
END:DAYLIGHT
BEGIN:STANDARD
TZOFFSETFROM:+0200
TZOFFSETTO:+0100
TZNAME:CET
DTSTART:20251026T010000
END:STANDARD
BEGIN:DAYLIGHT
TZOFFSETFROM:+0100
TZOFFSETTO:+0200
TZNAME:CEST
DTSTART:20260329T010000
END:DAYLIGHT
BEGIN:STANDARD
TZOFFSETFROM:+0200
TZOFFSETTO:+0100
TZNAME:CET
DTSTART:20261025T010000
END:STANDARD
END:VTIMEZONE
BEGIN:VEVENT
DTSTART;TZID=Europe/Berlin:20250119T160000
DTEND;TZID=Europe/Berlin:20250119T180000
DTSTAMP:20260422T171616
CREATED:20241124T120157Z
LAST-MODIFIED:20241124T120157Z
UID:3325-1737302400-1737309600@katharinamariakagel.de
SUMMARY:Poesie in Lied und Gedichten
DESCRIPTION:Der klassische Duett-Nachmittag mit Katharina Maria Kagel und Karolina Trojok.Der Eintritt ist frei
URL:https://katharinamariakagel.de/veranstaltung/poesie-in-lied-und-gedichten/
LOCATION:Tobias-Haus\, Am Hagen 6\, Ahrensburg\, 22926
END:VEVENT
END:VCALENDAR