BEGIN:VCALENDAR
VERSION:2.0
PRODID:-//Katharina Maria Kagel - ECPv6.15.20//NONSGML v1.0//EN
CALSCALE:GREGORIAN
METHOD:PUBLISH
X-WR-CALNAME:Katharina Maria Kagel
X-ORIGINAL-URL:https://katharinamariakagel.de
X-WR-CALDESC:Veranstaltungen für Katharina Maria Kagel
REFRESH-INTERVAL;VALUE=DURATION:PT1H
X-Robots-Tag:noindex
X-PUBLISHED-TTL:PT1H
BEGIN:VTIMEZONE
TZID:Europe/Berlin
BEGIN:DAYLIGHT
TZOFFSETFROM:+0100
TZOFFSETTO:+0200
TZNAME:CEST
DTSTART:20250330T010000
END:DAYLIGHT
BEGIN:STANDARD
TZOFFSETFROM:+0200
TZOFFSETTO:+0100
TZNAME:CET
DTSTART:20251026T010000
END:STANDARD
BEGIN:DAYLIGHT
TZOFFSETFROM:+0100
TZOFFSETTO:+0200
TZNAME:CEST
DTSTART:20260329T010000
END:DAYLIGHT
BEGIN:STANDARD
TZOFFSETFROM:+0200
TZOFFSETTO:+0100
TZNAME:CET
DTSTART:20261025T010000
END:STANDARD
BEGIN:DAYLIGHT
TZOFFSETFROM:+0100
TZOFFSETTO:+0200
TZNAME:CEST
DTSTART:20270328T010000
END:DAYLIGHT
BEGIN:STANDARD
TZOFFSETFROM:+0200
TZOFFSETTO:+0100
TZNAME:CET
DTSTART:20271031T010000
END:STANDARD
END:VTIMEZONE
BEGIN:VEVENT
DTSTART;TZID=Europe/Berlin:20261213T140000
DTEND;TZID=Europe/Berlin:20261213T170000
DTSTAMP:20260419T155311
CREATED:20260226T221805Z
LAST-MODIFIED:20260226T221806Z
UID:3874-1797170400-1797181200@katharinamariakagel.de
SUMMARY:Weihnachtskonzert auf Brittas Diele in Brunsbek-Langelohe
DESCRIPTION:Am 13. Dezember (3. Advent)\, 14:00 Uhr\, mit S(w)inging Großensee\, mit Kaffeearrangement – Kaffee und Kuchen satt. Leitung: Katharina Maria Kagel
URL:https://katharinamariakagel.de/veranstaltung/weihnachtskonzert-auf-brittas-diele-in-brunsbek-langelohe/
LOCATION:Schleswig-Holstein
END:VEVENT
END:VCALENDAR